BEGIN:VCALENDAR
VERSION:2.0
PRODID:-//NCAWorld - ECPv6.8.2.1//NONSGML v1.0//EN
CALSCALE:GREGORIAN
METHOD:PUBLISH
X-WR-CALNAME:NCAWorld
X-ORIGINAL-URL:https://www.ncaworld.org
X-WR-CALDESC:NCAWorld için etkinlikler
REFRESH-INTERVAL;VALUE=DURATION:PT1H
X-Robots-Tag:noindex
X-PUBLISHED-TTL:PT1H
BEGIN:VTIMEZONE
TZID:UTC
BEGIN:STANDARD
TZOFFSETFROM:+0000
TZOFFSETTO:+0000
TZNAME:UTC
DTSTART:20210101T000000
END:STANDARD
END:VTIMEZONE
BEGIN:VEVENT
DTSTART;TZID=UTC:20250102T140000
DTEND;TZID=UTC:20250323T160000
DTSTAMP:20260420T152210
CREATED:20250102T090246Z
LAST-MODIFIED:20250102T090246Z
UID:11683-1735826400-1742745600@www.ncaworld.org
SUMMARY:Ücretsiz (Yüz Yüze) Veli Semineri Mart 2025 - İstanbul Ön Kayıt
DESCRIPTION:Seminer ücretsiz ve yüz yüzedir. Lise ve Orta okul öğrencilerinin velileri için düzenlenmektedir. Amerika\, Kanada\, Arjantin ve Avrupa ülkeleri için gerçekleştirilmektedir.
URL:https://www.ncaworld.org/etkinlik/ucretsiz-yuz-yuze-veli-semineri-mart-2025-istanbul-on-kayit/
LOCATION:Park Inn By Radison\, Konak\, İzmir\, Türkiye
ATTACH;FMTTYPE=image/jpeg:https://www.ncaworld.org/wp-content/uploads/2025/01/WhatsApp-Image-2025-01-02-at-11.55.09.jpeg
ORGANIZER;CN="NCAWorld":MAILTO:info@ncaworld.org
END:VEVENT
BEGIN:VEVENT
DTSTART;TZID=UTC:20250102T140000
DTEND;TZID=UTC:20250323T160000
DTSTAMP:20260420T152210
CREATED:20250102T090014Z
LAST-MODIFIED:20250102T090014Z
UID:11679-1735826400-1742745600@www.ncaworld.org
SUMMARY:Ücretsiz (Yüz Yüze) Veli Semineri Mart 2025 - Antalya Ön Kayıt
DESCRIPTION:Seminer ücretsiz ve yüz yüzedir. Lise ve Orta okul öğrencilerinin velileri için düzenlenmektedir. Amerika\, Kanada\, Arjantin ve Avrupa ülkeleri için gerçekleştirilmektedir.
URL:https://www.ncaworld.org/etkinlik/ucretsiz-yuz-yuze-veli-semineri-mart-2025-antalya-on-kayit/
LOCATION:Park Inn By Radison\, Konak\, İzmir\, Türkiye
ATTACH;FMTTYPE=image/jpeg:https://www.ncaworld.org/wp-content/uploads/2025/01/WhatsApp-Image-2025-01-02-at-11.35.52-3.jpeg
ORGANIZER;CN="NCAWorld":MAILTO:info@ncaworld.org
END:VEVENT
BEGIN:VEVENT
DTSTART;TZID=UTC:20250102T140000
DTEND;TZID=UTC:20250323T160000
DTSTAMP:20260420T152210
CREATED:20241126T114047Z
LAST-MODIFIED:20250102T085630Z
UID:11656-1735826400-1742745600@www.ncaworld.org
SUMMARY:Ücretsiz (Yüz Yüze) Veli Semineri Mart 2025 - İzmir Ön Kayıt
DESCRIPTION:Seminer ücretsiz ve yüz yüzedir. Lise ve Orta okul öğrencilerinin velileri için düzenlenmektedir. Amerika\, Kanada\, Arjantin ve Avrupa ülkeleri için gerçekleştirilmektedir.
URL:https://www.ncaworld.org/etkinlik/yurt-disi-egitim-bilgilendirme-semineri-izmir/
LOCATION:Park Inn By Radison\, Konak\, İzmir\, Türkiye
ATTACH;FMTTYPE=image/jpeg:https://www.ncaworld.org/wp-content/uploads/2024/11/WhatsApp-Image-2025-01-02-at-11.35.52-2.jpeg
ORGANIZER;CN="NCAWorld":MAILTO:info@ncaworld.org
END:VEVENT
BEGIN:VEVENT
DTSTART;TZID=UTC:20241215T140000
DTEND;TZID=UTC:20241215T180000
DTSTAMP:20260420T152210
CREATED:20241126T120240Z
LAST-MODIFIED:20241126T120240Z
UID:11663-1734271200-1734285600@www.ncaworld.org
SUMMARY:Yurt Dışı Eğitim Bilgilendirme Semineri - İzmir
DESCRIPTION:Seminer ücretsiz ve yüz yüzedir. Lise ve Orta okul öğrencilerinin velileri için düzenlenmektedir. Amerika\, Kanada\, Arjantin ve Avrupa ülkeleri için gerçekleştirilmektedir. \nKonu Başlıkları: \n\nLise değişim başvuru koşulları\nLise & Üniversite eğitim maliyeti\nLise & Üniversite burs imkanları\nLise değişiminin üniversite burslarına etkisi\nAkademik ve sosyal kazanımlar nelerdir\nLisede IB & AP eğitim imkanları\nLise & Üniversite denklik\nSınavsız üniversiteye geçiş\n\nSorularınız ve daha fazlası için sizde Ücretsiz Seminerlerimiz için kaydınızı oluşturabilirsiniz. \nKONTENJANLA SINIRLIDIR ! \n 
URL:https://www.ncaworld.org/etkinlik/yurt-disi-egitim-bilgilendirme-semineri-izmir-2/
LOCATION:Hilton İstanbul Kozyatağı\, Sahrayicedit Mah. Batman Sok No 4\, İstanbul\, 34734\, Turkey
ATTACH;FMTTYPE=image/jpeg:https://www.ncaworld.org/wp-content/uploads/2024/11/WhatsApp-Gorsel-2024-11-26-saat-11.03.21_6537c7e2.jpg
ORGANIZER;CN="NCAWorld":MAILTO:info@ncaworld.org
END:VEVENT
BEGIN:VEVENT
DTSTART;TZID=UTC:20241110T150000
DTEND;TZID=UTC:20241110T180000
DTSTAMP:20260420T152210
CREATED:20241014T151809Z
LAST-MODIFIED:20241024T164038Z
UID:11643-1731250800-1731261600@www.ncaworld.org
SUMMARY:Yurt Dışı Eğitim Bilgilendirme Semineri - İstanbul
DESCRIPTION:NCA (National Cultural Association)\, Amerika\, Kanada\, Avrupa Devlet Bakanlığı ve Uzak Doğu Lise Değişim Programları Türkiye öğrenci seçme ve program yürütücülüğü hakkına sahip bir kuruluştur. \nKonu Başlıkları\nYurtdışında lise eğitimi alınabilir mi?\nKimler başvuru yapabilir?\nHangi ülkeler tercih edilebilir?\nYurtdışında üniversite için en avantajlı ülke hangisi?\nYurtdışında üniversite için burs imkanları nelerdir?\nAmerika üniversite eğitiminde bursu sağlar mı?\nKanada’da eğitim alarak vatandaşlık alınabilir mi?\nBuenos Aire Üniversitesi’nde ücretsiz eğitim alabileceğini\nAmerika’da yıllık 40.000$ bursla rüya liselerde okuyabileceğini\nKazanımlar nelerdir ? \nSorularınız ve daha fazlası için sizde Ücretsiz Seminerlerimiz için kaydınızı oluşturabilirsiniz. \nKONTENJANLA SINIRLIDIR ! \n 
URL:https://www.ncaworld.org/etkinlik/yurt-disi-egitim-bilgilendirme-semineri-istanbul/
LOCATION:Park Inn By Radison\, Konak\, İzmir\, Türkiye
ATTACH;FMTTYPE=image/jpeg:https://www.ncaworld.org/wp-content/uploads/2024/01/Sem101024.jpg
ORGANIZER;CN="NCAWorld":MAILTO:info@ncaworld.org
END:VEVENT
BEGIN:VEVENT
DTSTART;TZID=UTC:20241109T120000
DTEND;TZID=UTC:20241109T170000
DTSTAMP:20260420T152210
CREATED:20240110T094805Z
LAST-MODIFIED:20241024T164023Z
UID:8604-1731153600-1731171600@www.ncaworld.org
SUMMARY:Yurt Dışı Eğitim Bilgilendirme Semineri - İzmir
DESCRIPTION:NCA (National Cultural Association)\, Amerika\, Kanada\, Avrupa Devlet Bakanlığı ve Uzak Doğu Lise Değişim Programları Türkiye öğrenci seçme ve program yürütücülüğü hakkına sahip bir kuruluştur. \nKonu Başlıkları\nYurtdışında lise eğitimi alınabilir mi?\nKimler başvuru yapabilir?\nHangi ülkeler tercih edilebilir?\nYurtdışında üniversite için en avantajlı ülke hangisi?\nYurtdışında üniversite için burs imkanları nelerdir?\nAmerika üniversite eğitiminde bursu sağlar mı?\nKanada’da eğitim alarak vatandaşlık alınabilir mi?\nBuenos Aire Üniversitesi’nde ücretsiz eğitim alabileceğini\nAmerika’da yıllık 40.000$ bursla rüya liselerde okuyabileceğini\nKazanımlar nelerdir ? \nSorularınız ve daha fazlası için sizde Ücretsiz Seminerlerimiz için kaydınızı oluşturabilirsiniz. \nKONTENJANLA SINIRLIDIR ! \n 
URL:https://www.ncaworld.org/etkinlik/central-asia-2022-challenges-2/
LOCATION:Park Inn By Radison\, Konak\, İzmir\, Türkiye
ATTACH;FMTTYPE=image/jpeg:https://www.ncaworld.org/wp-content/uploads/2024/01/Sem091024.jpg
ORGANIZER;CN="NCAWorld":MAILTO:info@ncaworld.org
END:VEVENT
BEGIN:VEVENT
DTSTART;TZID=UTC:20220709T080000
DTEND;TZID=UTC:20221109T080000
DTSTAMP:20260420T152210
CREATED:20171010T100702Z
LAST-MODIFIED:20231121T182656Z
UID:8956-1657353600-1667980800@www.ncaworld.org
SUMMARY:Spring College Fair at Westwood High School
DESCRIPTION:Maecenas tempus\, tellus eget condimentum rhoncus\, sem quam semper libero\, sit amet adipiscing sem neque sed ipsum. Nam quam nunc\, blandit vel\, luctus pulvinar\, hendrerit id\, lorem. Maecenas nec odio et ante tincidunt tempus. Donec vitae sapien ut libero venenatis faucibus. Nullam quis ante. \nEtiam sit amet orci eget eros faucibus tincidunt. Duis leo. Sed fringilla mauris sit amet nibh. Donec sodales sagittis magna. Sed consequat\, leo eget bibendum sodales\, augue velit cursus nunc\, quis gravida magna mi a libero. Fusce vulputate eleifend sapien. Vestibulum purus quam\, scelerisque ut\, mollis sed\, nonummy id\, metus. \n  \n \n  \nNullam accumsan lorem in dui. Cras ultricies mi eu turpis hendrerit fringilla. Vestibulum ante ipsum primis in faucibus orci luctus et ultrices posuere cubilia Curae; In ac dui quis mi consectetuer lacinia. Nam pretium turpis et arcu. Duis arcu tortor\, suscipit eget\, imperdiet nec\, imperdiet iaculis\, ipsum. Sed aliquam ultrices mauris. \nInteger ante arcu\, accumsan a\, consectetuer eget\, posuere ut\, mauris. Praesent adipiscing. Phasellus ullamcorper ipsum rutrum nunc. Nunc nonummy metus. Vestibulum volutpat pretium libero. Cras id dui. Aenean ut eros et nisl sagittis vestibulum. Nullam nulla eros\, ultricies sit amet\, nonummy id\, imperdiet feugiat\, pede. Sed lectus.
URL:https://www.ncaworld.org/etkinlik/spring-college-fair-at-westwood-high-school-2-2/
LOCATION:Park Inn By Radison\, Konak\, İzmir\, Türkiye
ATTACH;FMTTYPE=image/jpeg:https://www.ncaworld.org/wp-content/uploads/2017/10/img-4.jpg
ORGANIZER;CN="NCAWorld":MAILTO:info@ncaworld.org
END:VEVENT
BEGIN:VEVENT
DTSTART;TZID=UTC:20220709T080000
DTEND;TZID=UTC:20221109T080000
DTSTAMP:20260420T152210
CREATED:20171010T100702Z
LAST-MODIFIED:20171010T100702Z
UID:10030-1657353600-1667980800@www.ncaworld.org
SUMMARY:Spring College Fair at Westwood High School
DESCRIPTION:Maecenas tempus\, tellus eget condimentum rhoncus\, sem quam semper libero\, sit amet adipiscing sem neque sed ipsum. Nam quam nunc\, blandit vel\, luctus pulvinar\, hendrerit id\, lorem. Maecenas nec odio et ante tincidunt tempus. Donec vitae sapien ut libero venenatis faucibus. Nullam quis ante. \nEtiam sit amet orci eget eros faucibus tincidunt. Duis leo. Sed fringilla mauris sit amet nibh. Donec sodales sagittis magna. Sed consequat\, leo eget bibendum sodales\, augue velit cursus nunc\, quis gravida magna mi a libero. Fusce vulputate eleifend sapien. Vestibulum purus quam\, scelerisque ut\, mollis sed\, nonummy id\, metus. \n  \n \n  \nNullam accumsan lorem in dui. Cras ultricies mi eu turpis hendrerit fringilla. Vestibulum ante ipsum primis in faucibus orci luctus et ultrices posuere cubilia Curae; In ac dui quis mi consectetuer lacinia. Nam pretium turpis et arcu. Duis arcu tortor\, suscipit eget\, imperdiet nec\, imperdiet iaculis\, ipsum. Sed aliquam ultrices mauris. \nInteger ante arcu\, accumsan a\, consectetuer eget\, posuere ut\, mauris. Praesent adipiscing. Phasellus ullamcorper ipsum rutrum nunc. Nunc nonummy metus. Vestibulum volutpat pretium libero. Cras id dui. Aenean ut eros et nisl sagittis vestibulum. Nullam nulla eros\, ultricies sit amet\, nonummy id\, imperdiet feugiat\, pede. Sed lectus.
URL:https://www.ncaworld.org/etkinlik/spring-college-fair-at-westwood-high-school-2-2-2/
LOCATION:Park Inn By Radison\, Konak\, İzmir\, Türkiye
ATTACH;FMTTYPE=image/jpeg:https://www.ncaworld.org/wp-content/uploads/2017/10/img-4.jpg
ORGANIZER;CN="NCAWorld":MAILTO:info@ncaworld.org
END:VEVENT
BEGIN:VEVENT
DTSTART;TZID=UTC:20210726T080000
DTEND;TZID=UTC:20221020T170000
DTSTAMP:20260420T152210
CREATED:20171016T011854Z
LAST-MODIFIED:20231121T182656Z
UID:8606-1627286400-1666285200@www.ncaworld.org
SUMMARY:CSS Conference Amsterdam
DESCRIPTION:Integer tincidunt. Cras dapibus. Vivamus elementum semper nisi. Aenean vulputate eleifend tellus. Aenean leo ligula\, porttitor eu\, consequat vitae\, eleifend ac\, enim. Aliquam lorem ante\, dapibus in\, viverra quis\, feugiat a\, tellus. Phasellus viverra nulla ut metus varius laoreet. Quisque rutrum. Aenean imperdiet. Etiam ultricies nisi vel augue. Curabitur ullamcorper ultricies nisi. Nam eget dui. Etiam rhoncus.Donec sodales sagittis magna. \n  \nSed consequat\, leo eget bibendum sodales\, augue velit cursus nunc\, quis gravida magna mi a libero. Fusce vulputate eleifend sapien. Vestibulum purus quam\, scelerisque ut\, mollis sed\, nonummy id\, metus. Nullam accumsan lorem in dui. Cras ultricies mi eu turpis hendrerit fringilla. Vestibulum ante ipsum primis in faucibus orci luctus et ultrices posuere cubilia Curae. \n\nIn ac dui quis mi consectetuer lacinia\nIn ac dui quis mi consectetuer lacinia. Nam pretium turpis et arcu. Duis arcu tortor\, suscipit eget\, imperdiet nec\, imperdiet iaculis\, ipsum.Maecenas tempus\, tellus eget condimentum rhoncus\, sem quam semper libero\, sit amet adipiscing sem neque sed ipsum. Nam quam nunc\, blandit vel\, luctus pulvinar\, hendrerit id\, lorem. Maecenas nec odio et ante tincidunt tempus. Donec vitae sapien ut libero venenatis faucibus. Nullam quis ante. Etiam sit amet orci eget eros faucibus tincidunt. Duis leo. Sed fringilla mauris sit amet nibh. \n  \n \n  \nNullam dictum felis eu pede mollis pretium. Integer tincidunt. Cras dapibus. Vivamus elementum semper nisi. Aenean vulputate eleifend tellus. Aenean leo ligula\, porttitor eu\, consequat vitae\, eleifend ac\, enim. Aliquam lorem ante\, dapibus in\, viverra quis\, feugiat a\, tellus. Phasellus viverra nulla ut metus varius laoreet. Quisque rutrum. Aenean imperdiet. Etiam ultricies nisi vel augue. Curabitur ullamcorper ultricies nisi. \nIn ac dui quis mi consectetuer lacinia\nNam eget dui. Etiam rhoncus. Maecenas tempus\, tellus eget condimentum rhoncus\, sem quam semper libero\, sit amet adipiscing sem neque sed ipsum. Nam quam nunc\, blandit vel\, luctus pulvinar\, hendrerit id\, lorem. Maecenas nec odio et ante tincidunt tempus. Donec vitae sapien ut libero venenatis faucibus. Nullam quis ante. Etiam sit amet orci eget eros faucibus tincidunt. Duis leo. Sed fringilla mauris sit amet nibh.
URL:https://www.ncaworld.org/etkinlik/developer-conference-amsterdam/
LOCATION:Park Inn By Radison\, Konak\, İzmir\, Türkiye
CATEGORIES:CSS,Developer,Frontend,JavaScript,Tech
ATTACH;FMTTYPE=image/jpeg:https://www.ncaworld.org/wp-content/uploads/2017/10/img-2.jpg
ORGANIZER;CN="Eventivation":MAILTO:admin@event.com
END:VEVENT
END:VCALENDAR